BEGIN:VCALENDAR
VERSION:2.0
PRODID:-//Pentecost - ECPv6.15.20//NONSGML v1.0//EN
CALSCALE:GREGORIAN
METHOD:PUBLISH
X-ORIGINAL-URL:https://pentecost.ca
X-WR-CALDESC:Events for Pentecost
REFRESH-INTERVAL;VALUE=DURATION:PT1H
X-Robots-Tag:noindex
X-PUBLISHED-TTL:PT1H
BEGIN:VTIMEZONE
TZID:UTC
BEGIN:STANDARD
TZOFFSETFROM:+0000
TZOFFSETTO:+0000
TZNAME:UTC
DTSTART:20240101T000000
END:STANDARD
END:VTIMEZONE
BEGIN:VEVENT
DTSTART;VALUE=DATE:20251231
DTEND;VALUE=DATE:20260102
DTSTAMP:20260424T045246
CREATED:20250313T234208Z
LAST-MODIFIED:20251231T215336Z
UID:3344-1767139200-1767311999@pentecost.ca
SUMMARY:Watch Night Service
DESCRIPTION:
URL:https://pentecost.ca/event/watch-night-service/
CATEGORIES:NATIONAL EVENTS
END:VEVENT
END:VCALENDAR