BEGIN:VCALENDAR
VERSION:2.0
PRODID:-//Pentecost - ECPv6.15.20//NONSGML v1.0//EN
CALSCALE:GREGORIAN
METHOD:PUBLISH
X-WR-CALNAME:Pentecost
X-ORIGINAL-URL:https://pentecost.ca
X-WR-CALDESC:Events for Pentecost
REFRESH-INTERVAL;VALUE=DURATION:PT1H
X-Robots-Tag:noindex
X-PUBLISHED-TTL:PT1H
BEGIN:VTIMEZONE
TZID:UTC
BEGIN:STANDARD
TZOFFSETFROM:+0000
TZOFFSETTO:+0000
TZNAME:UTC
DTSTART:20240101T000000
END:STANDARD
END:VTIMEZONE
BEGIN:VEVENT
DTSTART;VALUE=DATE:20260304
DTEND;VALUE=DATE:20260309
DTSTAMP:20260423T223457
CREATED:20251231T220732Z
LAST-MODIFIED:20251231T220732Z
UID:5687-1772582400-1773014399@pentecost.ca
SUMMARY:McKeown's Missions Week
DESCRIPTION:
URL:https://pentecost.ca/event/mckeowns-missions-week/
CATEGORIES:NATIONAL EVENTS
END:VEVENT
BEGIN:VEVENT
DTSTART;TZID=UTC:20260202T080000
DTEND;TZID=UTC:20260208T170000
DTSTAMP:20260423T223457
CREATED:20260203T193337Z
LAST-MODIFIED:20260203T193422Z
UID:6703-1770019200-1770570000@pentecost.ca
SUMMARY:Area Retreat 2026
DESCRIPTION:
URL:https://pentecost.ca/event/area-retreat-2026/
CATEGORIES:NATIONAL EVENTS
ATTACH;FMTTYPE=image/jpeg:https://pentecost.ca/wp-content/uploads/2026/02/Church-Flyer-Workers-Retreat.jpeg
END:VEVENT
BEGIN:VEVENT
DTSTART;VALUE=DATE:20260119
DTEND;VALUE=DATE:20260125
DTSTAMP:20260423T223457
CREATED:20250925T220906Z
LAST-MODIFIED:20251231T213443Z
UID:5044-1768780800-1769299199@pentecost.ca
SUMMARY:Ministers & Wives Conference and National Council Meetings
DESCRIPTION:
URL:https://pentecost.ca/event/ministers-wives-conference-national-council-meetings/
CATEGORIES:NATIONAL EVENTS
END:VEVENT
BEGIN:VEVENT
DTSTART;VALUE=DATE:20260105
DTEND;VALUE=DATE:20260119
DTSTAMP:20260423T223457
CREATED:20250925T221032Z
LAST-MODIFIED:20251231T212002Z
UID:5046-1767571200-1768780799@pentecost.ca
SUMMARY:National 14 Days Prayer and Fasting
DESCRIPTION:
URL:https://pentecost.ca/event/national-14-days-prayer-and-fasting/
CATEGORIES:NATIONAL EVENTS
ATTACH;FMTTYPE=image/jpeg:https://pentecost.ca/wp-content/uploads/2025/09/PHOTO-2025-12-31-12-32-17.jpg
END:VEVENT
BEGIN:VEVENT
DTSTART;VALUE=DATE:20251231
DTEND;VALUE=DATE:20260102
DTSTAMP:20260423T223457
CREATED:20250313T234208Z
LAST-MODIFIED:20251231T215336Z
UID:3344-1767139200-1767311999@pentecost.ca
SUMMARY:Watch Night Service
DESCRIPTION:
URL:https://pentecost.ca/event/watch-night-service/
CATEGORIES:NATIONAL EVENTS
END:VEVENT
BEGIN:VEVENT
DTSTART;VALUE=DATE:20260402
DTEND;VALUE=DATE:20260406
DTSTAMP:20260423T223457
CREATED:20250522T024604Z
LAST-MODIFIED:20260203T192738Z
UID:4614-1775088000-1775433599@pentecost.ca
SUMMARY:Easter Convention
DESCRIPTION:
URL:https://pentecost.ca/event/easter-conference/
CATEGORIES:NATIONAL EVENTS
ATTACH;FMTTYPE=image/jpeg:https://pentecost.ca/wp-content/uploads/2025/05/Easter-poster-design.jpeg
END:VEVENT
BEGIN:VEVENT
DTSTART;VALUE=DATE:20260707
DTEND;VALUE=DATE:20260713
DTSTAMP:20260423T223457
CREATED:20250407T110328Z
LAST-MODIFIED:20251231T215016Z
UID:4271-1783382400-1783900799@pentecost.ca
SUMMARY:Children's Ministry Week
DESCRIPTION:
URL:https://pentecost.ca/event/childrens-ministry-week/
CATEGORIES:NATIONAL EVENTS
END:VEVENT
END:VCALENDAR