BEGIN:VCALENDAR
VERSION:2.0
PRODID:-//Pentecost - ECPv6.15.20//NONSGML v1.0//EN
CALSCALE:GREGORIAN
METHOD:PUBLISH
X-ORIGINAL-URL:https://pentecost.ca
X-WR-CALDESC:Events for Pentecost
REFRESH-INTERVAL;VALUE=DURATION:PT1H
X-Robots-Tag:noindex
X-PUBLISHED-TTL:PT1H
BEGIN:VTIMEZONE
TZID:UTC
BEGIN:STANDARD
TZOFFSETFROM:+0000
TZOFFSETTO:+0000
TZNAME:UTC
DTSTART:20250101T000000
END:STANDARD
END:VTIMEZONE
BEGIN:VEVENT
DTSTART;VALUE=DATE:20260505
DTEND;VALUE=DATE:20260511
DTSTAMP:20260423T223451
CREATED:20250521T050202Z
LAST-MODIFIED:20251231T214325Z
UID:4610-1777939200-1778457599@pentecost.ca
SUMMARY:Women's Ministry Week
DESCRIPTION:
URL:https://pentecost.ca/event/womens-ministry-week-2/
CATEGORIES:NATIONAL EVENTS
END:VEVENT
BEGIN:VEVENT
DTSTART;VALUE=DATE:20260515
DTEND;VALUE=DATE:20260525
DTSTAMP:20260423T223451
CREATED:20250407T203741Z
LAST-MODIFIED:20251231T214500Z
UID:4237-1778803200-1779667199@pentecost.ca
SUMMARY:Pentecost Week
DESCRIPTION:
URL:https://pentecost.ca/event/pentecost-week-2/
CATEGORIES:NATIONAL EVENTS
END:VEVENT
BEGIN:VEVENT
DTSTART;VALUE=DATE:20260616
DTEND;VALUE=DATE:20260622
DTSTAMP:20260423T223451
CREATED:20250407T193607Z
LAST-MODIFIED:20251231T214656Z
UID:4228-1781568000-1782086399@pentecost.ca
SUMMARY:PEMEM Week
DESCRIPTION:
URL:https://pentecost.ca/event/pemem-week/
CATEGORIES:NATIONAL EVENTS
END:VEVENT
BEGIN:VEVENT
DTSTART;VALUE=DATE:20260723
DTEND;VALUE=DATE:20260727
DTSTAMP:20260423T223451
CREATED:20251231T215210Z
LAST-MODIFIED:20251231T215210Z
UID:4229-1784764800-1785110399@pentecost.ca
SUMMARY:Pentecost Conference Germany
DESCRIPTION:
URL:https://pentecost.ca/event/pentecost-conference-germany/
CATEGORIES:NATIONAL EVENTS
END:VEVENT
BEGIN:VEVENT
DTSTART;VALUE=DATE:20260908
DTEND;VALUE=DATE:20260914
DTSTAMP:20260423T223451
CREATED:20251231T220312Z
LAST-MODIFIED:20251231T220312Z
UID:5683-1788825600-1789343999@pentecost.ca
SUMMARY:National Evangelism Week
DESCRIPTION:
URL:https://pentecost.ca/event/national-evangelism-week/
CATEGORIES:NATIONAL EVENTS
END:VEVENT
BEGIN:VEVENT
DTSTART;VALUE=DATE:20261006
DTEND;VALUE=DATE:20261012
DTSTAMP:20260423T223451
CREATED:20250305T011131Z
LAST-MODIFIED:20251231T215811Z
UID:2468-1791244800-1791763199@pentecost.ca
SUMMARY:National Internal Missions Week
DESCRIPTION:
URL:https://pentecost.ca/event/national-internal-missions-week/
CATEGORIES:NATIONAL EVENTS
END:VEVENT
BEGIN:VEVENT
DTSTART;VALUE=DATE:20261217
DTEND;VALUE=DATE:20261221
DTSTAMP:20260423T223451
CREATED:20250305T011354Z
LAST-MODIFIED:20251231T215614Z
UID:2473-1797465600-1797811199@pentecost.ca
SUMMARY:Christmas Conventions
DESCRIPTION:
URL:https://pentecost.ca/event/christmas-conventions/
CATEGORIES:NATIONAL EVENTS
END:VEVENT
END:VCALENDAR